BEGIN:VCALENDAR
VERSION:2.0
PRODID:icalendar-ruby
CALSCALE:GREGORIAN
METHOD:PUBLISH
BEGIN:VEVENT
DTSTAMP:20260425T011142Z
UID:17-1175209@livingfaithgirard.net
DTSTART:20261022T233000Z
DTEND:20261023T003000Z
CLASS:PUBLIC
CREATED:20260424T175021
DESCRIPTION:
LAST-MODIFIED:20260424T175021
LOCATION:Multipurpose Room
SUMMARY:Young Adult Bible Study
URL;VALUE=URI:https://www.livingfaithgirard.net/events/young-adult-bible-st
 udy/2026-10-22
END:VEVENT
END:VCALENDAR
