BEGIN:VCALENDAR
VERSION:2.0
PRODID:icalendar-ruby
CALSCALE:GREGORIAN
METHOD:PUBLISH
BEGIN:VEVENT
DTSTAMP:20260424T222423Z
UID:17-1174441@livingfaithgirard.net
DTSTART:20261008T233000Z
DTEND:20261009T003000Z
CLASS:PUBLIC
CREATED:20260424T150228
DESCRIPTION:
LAST-MODIFIED:20260424T150228
LOCATION:Multipurpose Room
SUMMARY:Young Adult Bible Study
URL;VALUE=URI:https://www.livingfaithgirard.net/events/young-adult-bible-st
 udy/2026-10-08
END:VEVENT
END:VCALENDAR
