BEGIN:VCALENDAR
VERSION:2.0
PRODID:icalendar-ruby
CALSCALE:GREGORIAN
METHOD:PUBLISH
BEGIN:VEVENT
DTSTAMP:20260424T192112Z
UID:17-1173673@livingfaithgirard.net
DTSTART:20260924T233000Z
DTEND:20260925T003000Z
CLASS:PUBLIC
CREATED:20260424T121545
DESCRIPTION:
LAST-MODIFIED:20260424T121545
LOCATION:Multipurpose Room
SUMMARY:Young Adult Bible Study
URL;VALUE=URI:https://www.livingfaithgirard.net/events/young-adult-bible-st
 udy/2026-09-24
END:VEVENT
END:VCALENDAR
