BEGIN:VCALENDAR
VERSION:2.0
PRODID:icalendar-ruby
CALSCALE:GREGORIAN
METHOD:PUBLISH
BEGIN:VEVENT
DTSTAMP:20260424T145806Z
UID:17-1172904@livingfaithgirard.net
DTSTART:20260903T233000Z
DTEND:20260904T003000Z
CLASS:PUBLIC
CREATED:20260424T092733
DESCRIPTION:
LAST-MODIFIED:20260424T092733
LOCATION:Multipurpose Room
SUMMARY:Young Adult Bible Study
URL;VALUE=URI:https://www.livingfaithgirard.net/events/young-adult-bible-st
 udy/2026-09-03
END:VEVENT
END:VCALENDAR
