BEGIN:VCALENDAR
VERSION:2.0
PRODID:icalendar-ruby
CALSCALE:GREGORIAN
METHOD:PUBLISH
BEGIN:VEVENT
DTSTAMP:20260424T115123Z
UID:17-1172136@livingfaithgirard.net
DTSTART:20260820T233000Z
DTEND:20260821T003000Z
CLASS:PUBLIC
CREATED:20260424T063351
DESCRIPTION:
LAST-MODIFIED:20260424T063351
LOCATION:Multipurpose Room
SUMMARY:Young Adult Bible Study
URL;VALUE=URI:https://www.livingfaithgirard.net/events/young-adult-bible-st
 udy/2026-08-20
END:VEVENT
END:VCALENDAR
