BEGIN:VCALENDAR
VERSION:2.0
PRODID:icalendar-ruby
CALSCALE:GREGORIAN
METHOD:PUBLISH
BEGIN:VEVENT
DTSTAMP:20260424T084542Z
UID:17-1171368@livingfaithgirard.net
DTSTART:20260806T233000Z
DTEND:20260807T003000Z
CLASS:PUBLIC
CREATED:20260423T210526
DESCRIPTION:
LAST-MODIFIED:20260423T210526
LOCATION:Multipurpose Room
SUMMARY:Young Adult Bible Study
URL;VALUE=URI:https://www.livingfaithgirard.net/events/young-adult-bible-st
 udy/2026-08-06
END:VEVENT
END:VCALENDAR
