BEGIN:VCALENDAR
VERSION:2.0
PRODID:icalendar-ruby
CALSCALE:GREGORIAN
METHOD:PUBLISH
BEGIN:VEVENT
DTSTAMP:20260423T211047Z
UID:17-1169830@livingfaithgirard.net
DTSTART:20260611T233000Z
DTEND:20260612T003000Z
CLASS:PUBLIC
CREATED:20260423T151803
DESCRIPTION:
LAST-MODIFIED:20260423T151803
LOCATION:Multipurpose Room
SUMMARY:Young Adult Bible Study
URL;VALUE=URI:https://www.livingfaithgirard.net/events/young-adult-bible-st
 udy/2026-06-11
END:VEVENT
END:VCALENDAR
