BEGIN:VCALENDAR
VERSION:2.0
PRODID:icalendar-ruby
CALSCALE:GREGORIAN
METHOD:PUBLISH
BEGIN:VEVENT
DTSTAMP:20260423T194516Z
UID:17-1169064@livingfaithgirard.net
DTSTART:20260604T233000Z
DTEND:20260605T003000Z
CLASS:PUBLIC
CREATED:20260423T122138
DESCRIPTION:
LAST-MODIFIED:20260423T122138
LOCATION:Multipurpose Room
SUMMARY:Young Adult Bible Study
URL;VALUE=URI:https://www.livingfaithgirard.net/events/young-adult-bible-st
 udy/2026-06-04
END:VEVENT
END:VCALENDAR
