BEGIN:VCALENDAR
VERSION:2.0
PRODID:icalendar-ruby
CALSCALE:GREGORIAN
METHOD:PUBLISH
BEGIN:VEVENT
DTSTAMP:20260423T162132Z
UID:17-1168298@livingfaithgirard.net
DTSTART:20260521T233000Z
DTEND:20260522T003000Z
CLASS:PUBLIC
CREATED:20260423T092654
DESCRIPTION:
LAST-MODIFIED:20260423T092654
LOCATION:Multipurpose Room
SUMMARY:Young Adult Bible Study
URL;VALUE=URI:https://www.livingfaithgirard.net/events/young-adult-bible-st
 udy/2026-05-21
END:VEVENT
END:VCALENDAR
