BEGIN:VCALENDAR
VERSION:2.0
PRODID:icalendar-ruby
CALSCALE:GREGORIAN
METHOD:PUBLISH
BEGIN:VEVENT
DTSTAMP:20260423T145908Z
UID:17-1168297@livingfaithgirard.net
DTSTART:20260514T233000Z
DTEND:20260515T003000Z
CLASS:PUBLIC
CREATED:20260423T092654
DESCRIPTION:
LAST-MODIFIED:20260423T092654
LOCATION:Multipurpose Room
SUMMARY:Young Adult Bible Study
URL;VALUE=URI:https://www.livingfaithgirard.net/events/young-adult-bible-st
 udy/2026-05-14
END:VEVENT
END:VCALENDAR
