BEGIN:VCALENDAR
VERSION:2.0
PRODID:icalendar-ruby
CALSCALE:GREGORIAN
METHOD:PUBLISH
BEGIN:VEVENT
DTSTAMP:20260423T130322Z
UID:17-1167531@livingfaithgirard.net
DTSTART:20260507T233000Z
DTEND:20260508T003000Z
CLASS:PUBLIC
CREATED:20260423T063307
DESCRIPTION:
LAST-MODIFIED:20260423T063307
LOCATION:Multipurpose Room
SUMMARY:Young Adult Bible Study
URL;VALUE=URI:https://www.livingfaithgirard.net/events/young-adult-bible-st
 udy/2026-05-07
END:VEVENT
END:VCALENDAR
