BEGIN:VCALENDAR
VERSION:2.0
PRODID:icalendar-ruby
CALSCALE:GREGORIAN
METHOD:PUBLISH
BEGIN:VEVENT
DTSTAMP:20260423T094154Z
UID:17-1166765@livingfaithgirard.net
DTSTART:20260423T233000Z
DTEND:20260424T003000Z
CLASS:PUBLIC
CREATED:20260422T210326
DESCRIPTION:
LAST-MODIFIED:20260422T210326
LOCATION:Multipurpose Room
SUMMARY:Young Adult Bible Study
URL;VALUE=URI:https://www.livingfaithgirard.net/events/young-adult-bible-st
 udy/2026-04-23
END:VEVENT
END:VCALENDAR
