BEGIN:VCALENDAR
VERSION:2.0
PRODID:icalendar-ruby
CALSCALE:GREGORIAN
METHOD:PUBLISH
BEGIN:VEVENT
DTSTAMP:20260424T013229Z
UID:16-1170519@livingfaithgirard.net
DTSTART:20261101T160000Z
DTEND:20261101T170000Z
CLASS:PUBLIC
CREATED:20260423T181156
DESCRIPTION:
LAST-MODIFIED:20260423T181156
LOCATION:Sanctuary
SUMMARY:Sunday Worship
URL;VALUE=URI:https://www.livingfaithgirard.net/events/sunday-worship--15/2
 026-11-01
END:VEVENT
END:VCALENDAR
