BEGIN:VCALENDAR
VERSION:2.0
PRODID:icalendar-ruby
CALSCALE:GREGORIAN
METHOD:PUBLISH
BEGIN:VEVENT
DTSTAMP:20260423T235407Z
UID:16-1170518@livingfaithgirard.net
DTSTART:20261025T150000Z
DTEND:20261025T160000Z
CLASS:PUBLIC
CREATED:20260423T181156
DESCRIPTION:
LAST-MODIFIED:20260423T181156
LOCATION:Sanctuary
SUMMARY:Sunday Worship
URL;VALUE=URI:https://www.livingfaithgirard.net/events/sunday-worship--15/2
 026-10-25
END:VEVENT
END:VCALENDAR
