BEGIN:VCALENDAR
VERSION:2.0
PRODID:icalendar-ruby
CALSCALE:GREGORIAN
METHOD:PUBLISH
BEGIN:VEVENT
DTSTAMP:20260423T211026Z
UID:16-1169751@livingfaithgirard.net
DTSTART:20261011T150000Z
DTEND:20261011T160000Z
CLASS:PUBLIC
CREATED:20260423T151803
DESCRIPTION:
LAST-MODIFIED:20260423T151803
LOCATION:Sanctuary
SUMMARY:Sunday Worship
URL;VALUE=URI:https://www.livingfaithgirard.net/events/sunday-worship--15/2
 026-10-11
END:VEVENT
END:VCALENDAR
