BEGIN:VCALENDAR
VERSION:2.0
PRODID:icalendar-ruby
CALSCALE:GREGORIAN
METHOD:PUBLISH
BEGIN:VEVENT
DTSTAMP:20260423T193513Z
UID:16-1168985@livingfaithgirard.net
DTSTART:20261004T150000Z
DTEND:20261004T160000Z
CLASS:PUBLIC
CREATED:20260423T122138
DESCRIPTION:
LAST-MODIFIED:20260423T122138
LOCATION:Sanctuary
SUMMARY:Sunday Worship
URL;VALUE=URI:https://www.livingfaithgirard.net/events/sunday-worship--15/2
 026-10-04
END:VEVENT
END:VCALENDAR
