BEGIN:VCALENDAR
VERSION:2.0
PRODID:icalendar-ruby
CALSCALE:GREGORIAN
METHOD:PUBLISH
BEGIN:VEVENT
DTSTAMP:20260423T175812Z
UID:16-1168984@livingfaithgirard.net
DTSTART:20260927T150000Z
DTEND:20260927T160000Z
CLASS:PUBLIC
CREATED:20260423T122138
DESCRIPTION:
LAST-MODIFIED:20260423T122138
LOCATION:Sanctuary
SUMMARY:Sunday Worship
URL;VALUE=URI:https://www.livingfaithgirard.net/events/sunday-worship--15/2
 026-09-27
END:VEVENT
END:VCALENDAR
