BEGIN:VCALENDAR
VERSION:2.0
PRODID:icalendar-ruby
CALSCALE:GREGORIAN
METHOD:PUBLISH
BEGIN:VEVENT
DTSTAMP:20260424T005400Z
UID:6-1170461@livingfaithgirard.net
DTSTART:20261103T140000Z
DTEND:20261103T150000Z
CLASS:PUBLIC
CREATED:20260423T181156
DESCRIPTION:
LAST-MODIFIED:20260423T181156
LOCATION:Multi-purpose Room
SUMMARY:Men's Prayer Breakfast
URL;VALUE=URI:https://www.livingfaithgirard.net/events/mens-prayer-breakfas
 t/2026-11-03
END:VEVENT
END:VCALENDAR
