BEGIN:VCALENDAR
VERSION:2.0
PRODID:icalendar-ruby
CALSCALE:GREGORIAN
METHOD:PUBLISH
BEGIN:VEVENT
DTSTAMP:20260423T232438Z
UID:6-1170460@livingfaithgirard.net
DTSTART:20261027T130000Z
DTEND:20261027T140000Z
CLASS:PUBLIC
CREATED:20260423T181156
DESCRIPTION:
LAST-MODIFIED:20260423T181156
LOCATION:Multi-purpose Room
SUMMARY:Men's Prayer Breakfast
URL;VALUE=URI:https://www.livingfaithgirard.net/events/mens-prayer-breakfas
 t/2026-10-27
END:VEVENT
END:VCALENDAR
