BEGIN:VCALENDAR
VERSION:2.0
PRODID:icalendar-ruby
CALSCALE:GREGORIAN
METHOD:PUBLISH
BEGIN:VEVENT
DTSTAMP:20260423T220429Z
UID:6-1169694@livingfaithgirard.net
DTSTART:20261020T130000Z
DTEND:20261020T140000Z
CLASS:PUBLIC
CREATED:20260423T151803
DESCRIPTION:
LAST-MODIFIED:20260423T151803
LOCATION:Multi-purpose Room
SUMMARY:Men's Prayer Breakfast
URL;VALUE=URI:https://www.livingfaithgirard.net/events/mens-prayer-breakfas
 t/2026-10-20
END:VEVENT
END:VCALENDAR
